Workbook
Name AbaDeprec: '5. Depreciação'!$A$1
Name AbaRemun: '6.Remuneração de capital'!$A$1

Sheet 1. Coleta Domiciliar
A1: CONCORRÊNCIA Nº 01/2018
A3: ANEXO X - Planilha de Custos
A5: MUNICÍPIO DE FAXINAL DO SOTURNO
A8: 1. Coleta de Resíduos Sólidos
A9: Planilha de Composição de Custos
A11: Orçamento Sintético
A12: Descrição do Item | E12: Custo (R$/mês) | F12: %
A13: =A46 -> 1. Mão-de-obra | E13: =+F87 -> 8794.4117 | F13: =IFERROR(E13/$E$31,0) -> 0.28783265
A14: =A48 -> 1.1. Coletor Turno Dia | E14: =F58 -> 4630.5485 | F14: =IFERROR(E14/$E$31,0) -> 0.15155341
A15: =A60 -> 1.2. Motorista Turno do Dia | E15: =F72 -> 2718.8331 | F15: =IFERROR(E15/$E$31,0) -> 0.088984799
A16: =A74 -> 1.3. Vale-refeição (diário) | E16: =F78 -> 1043.53 | F16: =IFERROR(E16/$E$31,0) -> 0.034153735
A17: =A81 -> 1.4. Auxílio Alimentação (mensal) | E17: =F85 -> 401.5 | F17: =IFERROR(E17/$E$31,0) -> 0.01314071
A18: =A89 -> 2. Uniformes e Equipamentos de Proteção Individual | E18: =+F121 -> 354.91383 | F18: =IFERROR(E18/$E$31,0) -> 0.011615989
A19: =A123 -> 3. Veículos e Equipamentos | E19: =+F204 -> 14701.851 | F19: =IFERROR(E19/$E$31,0) -> 0.48117747
A20: =A125 -> 3.1. Veículo Coletor Compactador 15 m³ | E20: =SUM(E21:E26) -> 9901.851 | F20: =IFERROR(E20/$E$31,0) -> 0.32407808
A21: =A127 -> 3.1.1. Depreciação | E21: =F141 -> 1273.3853 | F21: =IFERROR(E21/$E$31,0) -> 0.041676679
A22: =A143 -> 3.1.2. Remuneração do Capital | E22: =F157 -> 897.40356 | F22: =IFERROR(E22/$E$31,0) -> 0.029371157
A23: =A159 -> 3.1.3. Impostos e Seguros | E23: =F165 -> 228.78808 | F23: =IFERROR(E23/$E$31,0) -> 0.0074880144
A24: =A167 -> 3.1.4. Consumos | E24: =F183 -> 4663.074 | F24: =IFERROR(E24/$E$31,0) -> 0.15261794
A25: =A185 -> 3.1.5. Manutenção | E25: =F188 -> 2308.8 | F25: =IFERROR(E25/$E$31,0) -> 0.075564808
A26: =A190 -> 3.1.6. Pneus | E26: =F197 -> 530.4 | F26: =IFERROR(E26/$E$31,0) -> 0.017359483
A27: 3.2. Containers | E27: =F202 -> 4800 | F27: =IFERROR(E27/$E$31,0) -> 0.15709939
A28: =A206 -> 4. Ferramentas e Materiais de Consumo | E28: =+F216 -> 37.083333 | F28: =IFERROR(E28/$E$31,0) -> 0.0012137019
A29: =A218 -> 5. Monitoramento da Frota | E29: =+F227 -> 43.678333 | F29: =IFERROR(E29/$E$31,0) -> 0.0014295499
A30: =A231 -> 6. Benefícios e Despesas Indiretas - BDI | E30: =+F237 -> 6621.9673 | F30: =IFERROR(E30/$E$31,0) -> 0.21673063
A31: PREÇO TOTAL MENSAL COM A COLETA | E31: =E13+E18+E19+E28+E29+E30 -> 30553.905 | F31: =F13+F18+F19+F28+F29+F30 -> 1
A34: Quantitativos
A35: Mão-de-obra | E35: Quantidade
A36: =+A48 -> 1.1. Coletor Turno Dia | E36: =C57 -> 2
A37: =+A60 -> 1.2. Motorista Turno do Dia | E37: =C71 -> 1
A38: Total de mão-de-obra (postos de trabalho) | E38: =SUM(E36:E37) -> 3
A40: Veículos e Equipamentos | E40: Quantidade
A41: =+A125 -> 3.1. Veículo Coletor Compactador 15 m³ | E41: =C140 -> 1
A44: Fator de utilização (FU) | B44: 0.73
A46: 1. Mão-de-obra
A48: 1.1. Coletor Turno Dia
A49: Discriminação | B49: Unidade | C49: Quantidade | D49: Custo unitário | E49: Subtotal | F49: Total (R$)
A50: Piso da categoria | B50: mês | C50: 1 | D50: 1221.88 | E50: =C50*D50 -> 1221.88
A51: Horas Extras (100%) ref. a 8 feriados no período | B51: hora | C51: 5.5 | D51: =((D50+(D50*0.4))/220)*2 -> 15.5512 | E51: =C51*D51 -> 85.5316 | G51: Excluir esta linha caso a contratação não tenha previsão de horas extras 100% explícita no edital
A52: Descanso Semanal Remunerado (DSR) - hora extra | B52: R$ | D52: =63/302*(SUM(E51:E51)) -> 17.842685 | E52: =D52 -> 17.842685 | G52: Excluir esta linha caso a contratação não tenha previsão de horas extras explícita no edital
...

Sheet 2.Encargos Sociais
A1: Orientações para preenchimento:
A2: 1. Preencha previamente os dados de entrada na planilha 3.CAGED
A4: 2. Composição dos Encargos Sociais
A5: Código | B5: Descrição | C5: Valor
A6: A1 | B6: INSS | C6: 0.2
A7: A2 | B7: SESI | C7: 0.015
A8: A3 | B8: SENAI | C8: 0.01
A9: A4 | B9: INCRA | C9: 0.002
A10: A5 | B10: SEBRAE | C10: 0.006
A11: A6 | B11: Salário educação | C11: 0.025
A12: A7 | B12: Seguro contra acidentes de trabalho | C12: 0.03
A13: A8 | B13: FGTS | C13: 0.08
A14: A | B14: SOMA GRUPO A | C14: =SUM(C6:C13) -> 0.368
A16: B1 | B16: Férias gozadas | C16: =ROUND(IF('3.CAGED'!C39>24,(1-12/'3.CAGED'!C39)*0.1111,0.1111-C25),4) -> 0.0632
A17: B2 | B17: 13º salário | C17: =ROUND('3.CAGED'!C33/'3.CAGED'!C30,4) -> 0.0833
A18: B3 | B18: Licença Paternidade | C18: 0.0006
A19: B4 | B19: Faltas justificadas | C19: 0.0082
A20: B5 | B20: Auxilio acidente de trabalho | C20: 0.0031
A21: B6 | B21: Auxilio doença | C21: 0.0166
A22: B | B22: SOMA GRUPO B | C22: =SUM(C16:C21) -> 0.175
A24: C1 | B24: Aviso prévio indenizado | C24: =ROUND(('3.CAGED'!C38) *'3.CAGED'!C29/'3.CAGED'!C30,4) -> 0.0361
A25: C2 | B25: Férias indenizadas | C25: =ROUND(IF('3.CAGED'!C39>12,12/'3.CAGED'!C39*0.1111,0.1111),4) -> 0.0479
A26: C3 | B26: Férias indenizadas s/ aviso previo inden. | C26: =ROUND(('3.CAGED'!C32+'3.CAGED'!C31)/360*C24,4) -> 0.004
A27: C4 | B27: Depósito rescisão sem justa causa | C27: =ROUND(('3.CAGED'!C30+'3.CAGED'!C31+'3.CAGED'!C33)/'3.CAGED'!C28*'3.CAGED'!C35*'3.CAGED'!C36*'3.CAGED'!C29/'3.CAGED'!C30,4) -> 0.0372
A28: C5 | B28: Indenização adicional | C28: =ROUND(('3.CAGED'!C32/'3.CAGED'!C30)*'3.CAGED'!C29/12,4) -> 0.0025
A29: C | B29: SOMA GRUPO C | C29: =SUM(C24:C28) -> 0.1277
A31: D1 | B31: Reincidência de Grupo A sobre Grupo B | C31: =ROUND(C14*C22,4) -> 0.0644
A32: D2 | B32: Reincidência de Grupo A sobre aviso prévio indenizado | C32: =ROUND((C24*C14),4) -> 0.0133
A33: D | B33: SOMA GRUPO D | C33: =SUM(C31:C32) -> 0.0777
B34: SOMA (A+B+C+D) | C34: =C33+C29+C22+C14 -> 0.7484

Sheet 3.CAGED
A1: CÁLCULO DAS VERBAS INDENIZATÓRIAS DOS EMPREGADOS NO SETOR DE COLETA DE RSU
A3: Para preencher esta planilha siga os passos 1 a 5:
A4: 1. Acesse o Portal do CAGED no link http://bi.mte.gov.br/cagedestabelecimento/pages/consulta.xhtml
A5: 2. Na Especificação da Consulta, selecione "Demonstrativo por período" e informe as competências relativas ao período Inicial e Final (últimos 12 meses)
A6: 3. Nível Geográfico: selecione "Unidade da Federação" e marque a opção "Rio Grande do Sul"
A7: 4. Nível Setorial: selecione "Classe de atividade econômica segundo a classificação CNAE – versão 2.0 (669 categorias)" e marque a opção "38114 – Coleta de Resíduos Não-Perigosos"
A8: 5. Clique em Gerar Relatório
A9: 6. Preencha as células em amarelo
B11: 3. CAGED
B12: Rio Grande do Sul - Coleta de Resíduos Não-Perigosos - CNAE 38114
B13: Admissões | C13: 1935
B14: Desligamentos | C14: 2742
B15: Dispensados com justa causa | C15: 118
B16: Dispensados sem justa causa | C16: 1957
B17: Espontâneos | C17: 330
B18: Fim de contrato por prazo determinado | C18: 24
B19: Término de contrato | C19: 280
B20: Aposentados | C20: 0
B21: Mortos | C21: 24
B22: Transferência de saída | C22: 0
B23: Indicadores
B24: Estoque recuperado início do Período 01-07-2017 | C24: 5832
B25: Estoque recuperado final do Período 30-06-2018 | C25: 5025
B26: Variação Emprego Absoluta de 01-07-2017 a 30-06-2018 | C26: -807
B28: Rotatividade | C28: =MEDIAN(C13,C14)/MEDIAN(C24,C25) -> 0.43078198 | G28: =12/C28 -> 27.856318
B29: Demitidos s/ Justa Causa em relação ao Estoque Médio | C29: =C16/MEDIAN(C24,C25) -> 0.36050474
B30: Dias ano | C30: 360
B31: 1/3 de férias (dias) | C31: 10
B32: Férias (dias) | C32: 30 | G32: =TRUNC(G37) -> 3
B33: 13º Salário (dias) | C33: 30
B34: Estoque Médio | C34: =MEDIAN(C24,C25) -> 5428.5
B35: FGTS | C35: 0.08 | K35: =IF(C39>12,C39-12,C39) -> 15.856318
B36: Multa FGTS | C36: 0.5 | K36: =IF(#REF!>12,#REF!-12,#REF!) -> #REF!
B37: Fração de tempo para gozo férias | C37: =((1/C28)-TRUNC(E37)) -> 0.32135985 | D37: =TRUNC(E37) -> 2 | E37: =1/C28 -> 2.3213598 | F37: =((1/C28)-TRUNC(E37)) -> 0.32135985 | G37: =12*F37 -> 3.8563182 | K37: =IF(#REF!>12,#REF!-12,#REF!) -> #REF!
B38: Dias de Aviso prévio | C38: =30+D38 -> 36 | D38: =3*D37 -> 6 | G38: =G37/12*40/360 -> 0.03570665 | K38: =IF(#REF!>12,#REF!-12,#REF!) -> #REF!
B39: Rotatividade temporal (meses) | C39: =12/C28 -> 27.856318 | K39: =IF(#REF!>12,#REF!-12,#REF!) -> #REF!
K40: =IF(K39>12,K39-12,K39) -> #REF!
K41: =IF(K40>12,K40-12,K40) -> #REF!

Sheet 4.BDI
A1: Orientações para preenchimento:
A2: 1. Esta planilha é somente um modelo-base e deve ser ajustada conforme cada caso concreto.
A3: 2. Preencher somente células em amarelo
A6: 4. Composição do BDI - Benefícios e Despesas Indiretas
D8: Referência estudo TCE
D9: 1° Quartil | E9: Médio | F9: 3° Quartil
A10: Administração Central | B10: AC | C10: 0.0508 | D10: 0.0297 | E10: 0.0508 | F10: 0.0627
A11: Seguros/Riscos/Garantias | B11: SRG | C11: 0.0133 | D11: =0.3%+0.56% -> 0.0086 | E11: =0.48%+0.85% -> 0.0133 | F11: =0.82%+0.89% -> 0.0171
A12: Lucro | B12: L | C12: 0.12 | D12: 0.0778 | E12: 0.1085 | F12: 0.1355
A13: Despesas Financeiras | B13: DF | C13: =(1+E13)^(E14/252)-1 -> 0 | D13: i
A14: Tributos - ISS | B14: T | C14: 0.03 | D14: DU
A15: Tributos - PIS/COFINS | C15: 0.0365
A16: Fórmula para o cálculo do BDI:
A17: {[(1+AC+SRG) x (1+L) x (1+DF)] / (1-T)} -1
A18: Resultado do cálculo do BDI: | C18: =ROUND((((1+C10+C11)*(1+C12)*(1+C13))/(1-(C14+C15))-1),4) -> 0.2767 | D18: 0.2143 | E18: 0.2717 | F18: 0.3362

Sheet 5. Depreciação
A1: 5. Depreciação Referencial TCE/RS (%)
A2: Idade do veículo (ano) | B2: Depreciação Média
A3: 1 | B3: 33.63
A4: 2 | B4: 43.13
A5: 3 | B5: 48.68
A6: 4 | B6: 52.62
A7: 5 | B7: 55.68
A8: 6 | B8: 58.18
A9: 7 | B9: 60.29
A10: 8 | B10: 62.12
A11: 9 | B11: 63.73
A12: 10 | B12: 65.18
A13: 11 | B13: 66.48
A14: 12 | B14: 67.67
... A17: 15 | B17: 70.73

Sheet 6.Remuneração de capital
A1: 6. Remuneração de Capital
A3: Fórmula de cálculo da remuneração de capital:
A12: Jm = remuneração de capital mensal
A13: i = taxa de juros do mercado (sugere-se adotar a taxa SELIC)
A14: Im = investimento médio
A15: V0 = valor inicial do bem
A16: Vr = valor residual do bem
A17: n = vida útil do bem em anos

Sheet 7. Dimensionamento
A1: Orientações para preenchimento:
A2: 1. Esta planilha é somente um modelo de cálculo expedito e deve ser ajustada conforme cada caso concreto.
A3: 2. Dimensionar separadamente setores atendidos por veículos de capacidade de carga diferentes.
A4: 3. Preencher somente células em amarelo
A6: 7. Dimensionamento da frota
A8: Indicador | B8: Unid | C8: Valor
A9: População (H) | B9: hab | C9: 6867
A10: Geração per capita (G) | B10: Kg/hab.dia | C10: =0.0362741*C9^0.2336249 -> 0.28573337
A11: Geração total diária (Qd) | B11: ton/dia | C11: =C9*C10/1000 -> 1.9621311
A12: Geração Mensal | B12: ton | C12: =(C11*30) -> 58.863932
A13: Número de dias de coleta por semana (Dc) | B13: dia | C13: 4
A14: Quantitativo diário de coleta (Qc) | B14: ton/dia | C14: =IFERROR(C11*7/C13,0) -> 3.4337293
A15: Densidade RSU compactado | B15: Kg/m³ | C15: 500
A16: Tipo de Veículo (1 = toco, 2 = truck) | C16: 1
A17: Capacidade do Compactador | B17: m³ | C17: 15
A18: Capacidade nominal de carga (Cc) | B18: ton | C18: =IF(AND(C17>=15,C16=1),5.8,C17/2) -> 5.8
A19: Número de Cargas por dia (Nc) | C19: =IFERROR(C14/C18,0) -> 0.5920223
A20: Número total de percursos de coleta por veículo, por dia (Np) | C20: 1
A21: Número de veículos da Frota (F) | C21: =IFERROR(C19/C20,0) -> 0.5920223
